BEGIN:VCALENDAR
VERSION:2.0
PRODID:-//Naperville Networking Alliance - ECPv6.15.20//NONSGML v1.0//EN
CALSCALE:GREGORIAN
METHOD:PUBLISH
X-WR-CALNAME:Naperville Networking Alliance
X-ORIGINAL-URL:https://napervillenetworkingalliance.com
X-WR-CALDESC:Events for Naperville Networking Alliance
REFRESH-INTERVAL;VALUE=DURATION:PT1H
X-Robots-Tag:noindex
X-PUBLISHED-TTL:PT1H
BEGIN:VTIMEZONE
TZID:America/Chicago
BEGIN:DAYLIGHT
TZOFFSETFROM:-0600
TZOFFSETTO:-0500
TZNAME:CDT
DTSTART:20250309T080000
END:DAYLIGHT
BEGIN:STANDARD
TZOFFSETFROM:-0500
TZOFFSETTO:-0600
TZNAME:CST
DTSTART:20251102T070000
END:STANDARD
BEGIN:DAYLIGHT
TZOFFSETFROM:-0600
TZOFFSETTO:-0500
TZNAME:CDT
DTSTART:20260308T080000
END:DAYLIGHT
BEGIN:STANDARD
TZOFFSETFROM:-0500
TZOFFSETTO:-0600
TZNAME:CST
DTSTART:20261101T070000
END:STANDARD
BEGIN:DAYLIGHT
TZOFFSETFROM:-0600
TZOFFSETTO:-0500
TZNAME:CDT
DTSTART:20270314T080000
END:DAYLIGHT
BEGIN:STANDARD
TZOFFSETFROM:-0500
TZOFFSETTO:-0600
TZNAME:CST
DTSTART:20271107T070000
END:STANDARD
END:VTIMEZONE
BEGIN:VEVENT
DTSTART;TZID=America/Chicago:20260107T080000
DTEND;TZID=America/Chicago:20260107T093000
DTSTAMP:20260419T222612
CREATED:20251230T222353Z
LAST-MODIFIED:20251230T231850Z
UID:396-1767772800-1767778200@napervillenetworkingalliance.com
SUMMARY:Naperville Networking Alliance | Morning Meeting (1/7)
DESCRIPTION:Join us January 7th at the Naperville Networking Alliance for a morning event tailored to professionals looking to enhance their business strategy. This event is designed to help young professionals navigate the world of small business ownership\, achieve their goals\, and build their professional development. \nNetwork with like-minded individuals\, learn from seasoned entrepreneurs\, and gain valuable insights on referral marketing and business referral networking. Whether you are just starting out in your career or already own a small business\, this meetup will provide you with practical tools and strategies to take your success to the next level. Don’t miss this opportunity to connect\, learn\, and grow with the NNA community. \n>> Click here to see our Meetup event page
URL:https://napervillenetworkingalliance.com/event/naperville-networking-alliance-morning-meeting/
LOCATION:Limitless Dreams Events\, 1600 Maple Ave B2\, Lisle\, IL\, 60532\, United States
END:VEVENT
END:VCALENDAR