BEGIN:VCALENDAR
VERSION:2.0
PRODID:-//Naperville Networking Alliance - ECPv6.15.20//NONSGML v1.0//EN
CALSCALE:GREGORIAN
METHOD:PUBLISH
X-WR-CALNAME:Naperville Networking Alliance
X-ORIGINAL-URL:https://napervillenetworkingalliance.com
X-WR-CALDESC:Events for Naperville Networking Alliance
REFRESH-INTERVAL;VALUE=DURATION:PT1H
X-Robots-Tag:noindex
X-PUBLISHED-TTL:PT1H
BEGIN:VTIMEZONE
TZID:America/Chicago
BEGIN:DAYLIGHT
TZOFFSETFROM:-0600
TZOFFSETTO:-0500
TZNAME:CDT
DTSTART:20250309T080000
END:DAYLIGHT
BEGIN:STANDARD
TZOFFSETFROM:-0500
TZOFFSETTO:-0600
TZNAME:CST
DTSTART:20251102T070000
END:STANDARD
BEGIN:DAYLIGHT
TZOFFSETFROM:-0600
TZOFFSETTO:-0500
TZNAME:CDT
DTSTART:20260308T080000
END:DAYLIGHT
BEGIN:STANDARD
TZOFFSETFROM:-0500
TZOFFSETTO:-0600
TZNAME:CST
DTSTART:20261101T070000
END:STANDARD
BEGIN:DAYLIGHT
TZOFFSETFROM:-0600
TZOFFSETTO:-0500
TZNAME:CDT
DTSTART:20270314T080000
END:DAYLIGHT
BEGIN:STANDARD
TZOFFSETFROM:-0500
TZOFFSETTO:-0600
TZNAME:CST
DTSTART:20271107T070000
END:STANDARD
END:VTIMEZONE
BEGIN:VEVENT
DTSTART;VALUE=DATE:20260511
DTEND;VALUE=DATE:20260512
DTSTAMP:20260419T114258
CREATED:20260415T143121Z
LAST-MODIFIED:20260415T143121Z
UID:738-1778457600-1778543999@napervillenetworkingalliance.com
SUMMARY:Golf Tourny/NNA sponsor a hole
DESCRIPTION:More info to come but talk to Mark Bridges if you’d like to play\, sponsor or volunteer.
URL:https://napervillenetworkingalliance.com/event/golf-tourny-nna-sponsor-a-hole/
LOCATION:Arrowhead Golfcourse
END:VEVENT
END:VCALENDAR